BEGIN:VCALENDAR
VERSION:2.0
PRODID:-//pretix//pretix.eu//
BEGIN:VTIMEZONE
TZID:Europe/Berlin
BEGIN:STANDARD
DTSTART:20001029T040000
RRULE:FREQ=YEARLY;BYDAY=-1SU;BYMONTH=10
TZNAME:CET
TZOFFSETFROM:+0200
TZOFFSETTO:+0100
END:STANDARD
BEGIN:DAYLIGHT
DTSTART:20000326T030000
RRULE:FREQ=YEARLY;BYDAY=-1SU;BYMONTH=3
TZNAME:CEST
TZOFFSETFROM:+0100
TZOFFSETTO:+0200
END:DAYLIGHT
END:VTIMEZONE
BEGIN:VEVENT
UID:pretix-codingschulejunior-Codingwerkstatt-3912681@tickets.codingschule-
 junior.de
DTSTART;TZID=Europe/Berlin:20241005T100000
DTEND;TZID=Europe/Berlin:20241005T130000
DESCRIPTION:Tickets: https://tickets.codingschule-junior.de/Codingwerkstatt
 /3912681/\nVeranstalter: Codingschule junior
DTSTAMP:20260420T093447Z
LOCATION:InVision AG Speditionstraße 5 40221 Düsseldorf
SUMMARY:Invision - Codingwerkstatt
END:VEVENT
END:VCALENDAR
